BEGIN:VCALENDAR
VERSION:2.0
PRODID:-//Leech Lake News - ECPv6.15.17//NONSGML v1.0//EN
CALSCALE:GREGORIAN
METHOD:PUBLISH
X-WR-CALNAME:Leech Lake News
X-ORIGINAL-URL:https://www.leechlakenews.com
X-WR-CALDESC:Events for Leech Lake News
REFRESH-INTERVAL;VALUE=DURATION:PT1H
X-Robots-Tag:noindex
X-PUBLISHED-TTL:PT1H
BEGIN:VTIMEZONE
TZID:America/Chicago
BEGIN:DAYLIGHT
TZOFFSETFROM:-0600
TZOFFSETTO:-0500
TZNAME:CDT
DTSTART:20230312T080000
END:DAYLIGHT
BEGIN:STANDARD
TZOFFSETFROM:-0500
TZOFFSETTO:-0600
TZNAME:CST
DTSTART:20231105T070000
END:STANDARD
BEGIN:DAYLIGHT
TZOFFSETFROM:-0600
TZOFFSETTO:-0500
TZNAME:CDT
DTSTART:20240310T080000
END:DAYLIGHT
BEGIN:STANDARD
TZOFFSETFROM:-0500
TZOFFSETTO:-0600
TZNAME:CST
DTSTART:20241103T070000
END:STANDARD
BEGIN:DAYLIGHT
TZOFFSETFROM:-0600
TZOFFSETTO:-0500
TZNAME:CDT
DTSTART:20250309T080000
END:DAYLIGHT
BEGIN:STANDARD
TZOFFSETFROM:-0500
TZOFFSETTO:-0600
TZNAME:CST
DTSTART:20251102T070000
END:STANDARD
END:VTIMEZONE
BEGIN:VEVENT
DTSTART;TZID=America/Chicago:20240306T173000
DTEND;TZID=America/Chicago:20240306T193000
DTSTAMP:20260420T161134
CREATED:20240223T180047Z
LAST-MODIFIED:20240223T194758Z
UID:10001471-1709746200-1709753400@www.leechlakenews.com
SUMMARY:FY25 Annual Budget Public Hearing- Duluth
DESCRIPTION:DOOR PRIZES & REFRESHMENTS PROVIDED \nPlease come and join us in our annual discussion regarding the Leech Lake Band of Ojibwe Annual Budgeting Process. \nWe need your input\, invite your questions\, and value your opinion. So please join us in a discussion regarding the financial allocation process (budget) of the Leech Lake Band of Ojibwe’s financial resources. Remember\, these are your resources\, so please come and let us know how you feel about how they should be allocated! \nFOR MORE INFORMATION CONTACT: KYLE APPLEBEE @ 218-335-3645 \nZoom Meeting ID: 836 4808 2278 \nZoom Link: https://us06web.zoom.us/j/83648082278?pwd=I0UgAzbqTZHs05l3y6dHVDmMDkUT9I.1#success
URL:https://www.leechlakenews.com/event/fy25-annual-budget-public-hearing-duluth/
LOCATION:Dr. Robert Powless Cultural Center\, 212 West 2nd Street\, Duluth\, MN\, 55802\, United States
CATEGORIES:LLBO
ATTACH;FMTTYPE=image/jpeg:https://www.leechlakenews.com/wp-content/uploads/2024/02/FY-2025-Budget-Hearing-Duluth-SB-1.jpg
GEO:46.7859133;-92.1029655
X-APPLE-STRUCTURED-LOCATION;VALUE=URI;X-ADDRESS=Dr. Robert Powless Cultural Center 212 West 2nd Street Duluth MN 55802 United States;X-APPLE-RADIUS=500;X-TITLE=212 West 2nd Street:geo:-92.1029655,46.7859133
END:VEVENT
BEGIN:VEVENT
DTSTART;TZID=America/Chicago:20240308T180000
DTEND;TZID=America/Chicago:20240308T200000
DTSTAMP:20260420T161134
CREATED:20240304T145928Z
LAST-MODIFIED:20240304T145928Z
UID:10001482-1709920800-1709928000@www.leechlakenews.com
SUMMARY:FY25 Annual Budget Public Hearing- Twin Cities
DESCRIPTION:DOOR PRIZES & REFRESHMENTS PROVIDED \nPlease come and join us in our annual discussion regarding the Leech Lake Band of Ojibwe Annual Budgeting Process. \nWe need your input\, invite your questions\, and value your opinion. So please join us in a discussion regarding the financial allocation process (budget) of the Leech Lake Band of Ojibwe’s financial resources. Remember\, these are your resources\, so please come and let us know how you feel about how they should be allocated! \nFOR MORE INFORMATION CONTACT: KYLE APPLEBEE @ 218-335-3645 \nZoom Meeting ID: 836 4808 2278 \nZoom Link: https://us06web.zoom.us/j/83648082278?pwd=I0UgAzbqTZHs05l3y6dHVDmMDkUT9I.1#success
URL:https://www.leechlakenews.com/event/fy25-annual-budget-public-hearing-twin-cities/
LOCATION:Leech Lake Band of Ojibwe Twin Cities Office\, 2438 27th Avenue S\, Minneapolis\, MN\, 55406\, United States
CATEGORIES:LLBO
ATTACH;FMTTYPE=image/jpeg:https://www.leechlakenews.com/wp-content/uploads/2024/03/FY-2025-Budget-Hearing-TC-SB.jpg
GEO:44.9584347;-93.2311492
X-APPLE-STRUCTURED-LOCATION;VALUE=URI;X-ADDRESS=Leech Lake Band of Ojibwe Twin Cities Office 2438 27th Avenue S Minneapolis MN 55406 United States;X-APPLE-RADIUS=500;X-TITLE=2438 27th Avenue S:geo:-93.2311492,44.9584347
END:VEVENT
BEGIN:VEVENT
DTSTART;TZID=America/Chicago:20240312T090000
DTEND;TZID=America/Chicago:20240312T120000
DTSTAMP:20260420T161134
CREATED:20240228T204153Z
LAST-MODIFIED:20240228T204153Z
UID:10001480-1710234000-1710244800@www.leechlakenews.com
SUMMARY:LLRBC Briefing
DESCRIPTION:The Leech Lake Reservation Business Committee will hold a briefing on Tuesday\, March 12\, 2024 beginning at 9:00AM. \nTune in live or watch the recorded version later at: https://vimeo.com/event/4124813 \n 
URL:https://www.leechlakenews.com/event/llrbc-briefing/
LOCATION:Leech Lake Band of Ojibwe\, 190 Sailstar Dr NW\, Cass Lake\, MN\, 56484\, United States
CATEGORIES:LLBO
GEO:47.3839789;-94.60106
X-APPLE-STRUCTURED-LOCATION;VALUE=URI;X-ADDRESS=Leech Lake Band of Ojibwe 190 Sailstar Dr NW Cass Lake MN 56484 United States;X-APPLE-RADIUS=500;X-TITLE=190 Sailstar Dr NW:geo:-94.60106,47.3839789
END:VEVENT
BEGIN:VEVENT
DTSTART;TZID=America/Chicago:20240314T090000
DTEND;TZID=America/Chicago:20240314T120000
DTSTAMP:20260420T161134
CREATED:20240228T204331Z
LAST-MODIFIED:20240228T204514Z
UID:10001481-1710406800-1710417600@www.leechlakenews.com
SUMMARY:LLRBC Meeting
DESCRIPTION:The Leech Lake Reservation Business Committee will hold a special meeting on Thursday\, March 14\, 2024 beginning at 9:00AM. \nTune in live or watch the recorded version later at: https://vimeo.com/event/4124817
URL:https://www.leechlakenews.com/event/llrbc-meeting/
LOCATION:Leech Lake Band of Ojibwe\, 190 Sailstar Dr NW\, Cass Lake\, MN\, 56484\, United States
CATEGORIES:LLBO
GEO:47.3839789;-94.60106
X-APPLE-STRUCTURED-LOCATION;VALUE=URI;X-ADDRESS=Leech Lake Band of Ojibwe 190 Sailstar Dr NW Cass Lake MN 56484 United States;X-APPLE-RADIUS=500;X-TITLE=190 Sailstar Dr NW:geo:-94.60106,47.3839789
END:VEVENT
BEGIN:VEVENT
DTSTART;TZID=America/Chicago:20240319T140000
DTEND;TZID=America/Chicago:20240319T190000
DTSTAMP:20260420T161134
CREATED:20240221T172552Z
LAST-MODIFIED:20240221T172552Z
UID:10001466-1710856800-1710874800@www.leechlakenews.com
SUMMARY:Wild Game Feast
DESCRIPTION:The DRM will be hosting a Wild Game Feast at LLTC to celebrate another deer season with no chronic wasting disease detected. We will have wild game food out from 2-7pm for guests to try and a feast at 5pm. We will also have raffle prizes that all attendees will be eligible for. A few of the big items include a $500 gift card to Reeds\, $300 gift card to L&M Fleet\, a meat grinder\, a freezer\, and many other items!
URL:https://www.leechlakenews.com/event/wild-game-feast/
LOCATION:Leech Lake Tribal College\, 6945 Little Wolf Rd NW\, Cass Lake\, MN\, 56633\, United States
CATEGORIES:LLBO
ATTACH;FMTTYPE=image/jpeg:https://www.leechlakenews.com/wp-content/uploads/2024/02/wild.game_-scaled.jpg
GEO:47.395383;-94.652303
X-APPLE-STRUCTURED-LOCATION;VALUE=URI;X-ADDRESS=Leech Lake Tribal College 6945 Little Wolf Rd NW Cass Lake MN 56633 United States;X-APPLE-RADIUS=500;X-TITLE=6945 Little Wolf Rd NW:geo:-94.652303,47.395383
END:VEVENT
BEGIN:VEVENT
DTSTART;TZID=America/Chicago:20240322T090000
DTEND;TZID=America/Chicago:20240322T140000
DTSTAMP:20260420T161134
CREATED:20240125T175455Z
LAST-MODIFIED:20240228T145527Z
UID:10001238-1711098000-1711116000@www.leechlakenews.com
SUMMARY:State of the Band Address
DESCRIPTION:Stream Link: https://vimeo.com/event/4121240 \n 
URL:https://www.leechlakenews.com/event/state-of-the-band-address-3/
LOCATION:MN
CATEGORIES:LLBO
ATTACH;FMTTYPE=image/jpeg:https://www.leechlakenews.com/wp-content/uploads/2024/01/state_of_the_band_2024-scaled.jpg
END:VEVENT
BEGIN:VEVENT
DTSTART;TZID=America/Chicago:20240326T090000
DTEND;TZID=America/Chicago:20240326T120000
DTSTAMP:20260420T161134
CREATED:20240319T154637Z
LAST-MODIFIED:20240319T154637Z
UID:10001489-1711443600-1711454400@www.leechlakenews.com
SUMMARY:LLRBC Briefing
DESCRIPTION:The Leech Lake Reservation Business Committee will hold a briefing on Tuesday\, March 26\, 2024 beginning at 9:00AM. \nTune in live or watch the recorded version later at: https://vimeo.com/event/4171615 \n 
URL:https://www.leechlakenews.com/event/llrbc-briefing-2/
LOCATION:Leech Lake Band of Ojibwe\, 190 Sailstar Dr NW\, Cass Lake\, MN\, 56484\, United States
CATEGORIES:LLBO
GEO:47.3839789;-94.60106
X-APPLE-STRUCTURED-LOCATION;VALUE=URI;X-ADDRESS=Leech Lake Band of Ojibwe 190 Sailstar Dr NW Cass Lake MN 56484 United States;X-APPLE-RADIUS=500;X-TITLE=190 Sailstar Dr NW:geo:-94.60106,47.3839789
END:VEVENT
END:VCALENDAR