BEGIN:VCALENDAR
VERSION:2.0
PRODID:-//Leech Lake News - ECPv6.15.17//NONSGML v1.0//EN
CALSCALE:GREGORIAN
METHOD:PUBLISH
X-ORIGINAL-URL:https://www.leechlakenews.com
X-WR-CALDESC:Events for Leech Lake News
REFRESH-INTERVAL;VALUE=DURATION:PT1H
X-Robots-Tag:noindex
X-PUBLISHED-TTL:PT1H
BEGIN:VTIMEZONE
TZID:America/Chicago
BEGIN:DAYLIGHT
TZOFFSETFROM:-0600
TZOFFSETTO:-0500
TZNAME:CDT
DTSTART:20230312T080000
END:DAYLIGHT
BEGIN:STANDARD
TZOFFSETFROM:-0500
TZOFFSETTO:-0600
TZNAME:CST
DTSTART:20231105T070000
END:STANDARD
BEGIN:DAYLIGHT
TZOFFSETFROM:-0600
TZOFFSETTO:-0500
TZNAME:CDT
DTSTART:20240310T080000
END:DAYLIGHT
BEGIN:STANDARD
TZOFFSETFROM:-0500
TZOFFSETTO:-0600
TZNAME:CST
DTSTART:20241103T070000
END:STANDARD
BEGIN:DAYLIGHT
TZOFFSETFROM:-0600
TZOFFSETTO:-0500
TZNAME:CDT
DTSTART:20250309T080000
END:DAYLIGHT
BEGIN:STANDARD
TZOFFSETFROM:-0500
TZOFFSETTO:-0600
TZNAME:CST
DTSTART:20251102T070000
END:STANDARD
END:VTIMEZONE
BEGIN:VEVENT
DTSTART;TZID=America/Chicago:20240507T173000
DTEND;TZID=America/Chicago:20240507T183000
DTSTAMP:20260420T123932
CREATED:20240501T180304Z
LAST-MODIFIED:20240501T182535Z
UID:10001544-1715103000-1715106600@www.leechlakenews.com
SUMMARY:Public Meeting: Cannabis
DESCRIPTION:Community Meeting Announcement: Cannabis Business Project Update\n\n\n Leech Lake Band Members are invited to attend an important community meeting. We’ll discuss the latest developments and future plans for our Cannabis Business Project. This is your opportunity to hear directly from representatives of the Cannabis Regulatory Commission and our Cannabis Business Board of Directors!\n\n\n Date: Tuesday\, May 7\, 2024\n Time: 5:30PM\n Location: Cedar Lakes Casino Event Center\n\n\n Agenda Highlights:\n-Current status of our cannabis initiatives\n-Upcoming plans for opening and operating a cannabis retail business\n-Q&A session to receive your feedback and answer your questions\n\n\nYour input is valuable! Let’s shape the future of our community together. Don’t miss out!
URL:https://www.leechlakenews.com/event/public-meeting-cannabis/
LOCATION:Cedar Lakes Casino & Hotel\, 6268 Upper Cass Frontage Rd NW\, Cass Lake\, MN\, 56633\, United States
CATEGORIES:LLBO
GEO:47.3836289;-94.6162346
X-APPLE-STRUCTURED-LOCATION;VALUE=URI;X-ADDRESS=Cedar Lakes Casino & Hotel 6268 Upper Cass Frontage Rd NW Cass Lake MN 56633 United States;X-APPLE-RADIUS=500;X-TITLE=6268 Upper Cass Frontage Rd NW:geo:-94.6162346,47.3836289
END:VEVENT
BEGIN:VEVENT
DTSTART;TZID=America/Chicago:20240509T090000
DTEND;TZID=America/Chicago:20240509T120000
DTSTAMP:20260420T123932
CREATED:20240501T180654Z
LAST-MODIFIED:20240501T180654Z
UID:10001545-1715245200-1715256000@www.leechlakenews.com
SUMMARY:LLRBC Meeting
DESCRIPTION:The Leech Lake Reservation Business Committee will hold a briefing and special meeting beginning at 9:00AM on Thursday\, May 9\, 2024 \nWatch live or view the recording later at this link: https://vimeo.com/event/4274275 \n 
URL:https://www.leechlakenews.com/event/llrbc-meeting-2/
LOCATION:Leech Lake Band of Ojibwe\, 190 Sailstar Dr NW\, Cass Lake\, MN\, 56484\, United States
CATEGORIES:LLBO
GEO:47.3839789;-94.60106
X-APPLE-STRUCTURED-LOCATION;VALUE=URI;X-ADDRESS=Leech Lake Band of Ojibwe 190 Sailstar Dr NW Cass Lake MN 56484 United States;X-APPLE-RADIUS=500;X-TITLE=190 Sailstar Dr NW:geo:-94.60106,47.3839789
END:VEVENT
BEGIN:VEVENT
DTSTART;TZID=America/Chicago:20240522T173000
DTEND;TZID=America/Chicago:20240522T193000
DTSTAMP:20260420T123932
CREATED:20240417T160310Z
LAST-MODIFIED:20240417T160310Z
UID:10001528-1716399000-1716406200@www.leechlakenews.com
SUMMARY:Class II Public Forum Hosted by Leech Lake Gaming
DESCRIPTION:Northern Lights Casino \nWednesday\, May 22\, 2024 \n530p-730p
URL:https://www.leechlakenews.com/event/class-ii-public-forum-hosted-by-leech-lake-gaming/
LOCATION:Northern Lights Casino\, 6800 Y Frontage Rd NW\, Walker\, MN\, 56484\, United States
CATEGORIES:LLBO
GEO:47.0549446;-94.5363778
X-APPLE-STRUCTURED-LOCATION;VALUE=URI;X-ADDRESS=Northern Lights Casino 6800 Y Frontage Rd NW Walker MN 56484 United States;X-APPLE-RADIUS=500;X-TITLE=6800 Y Frontage Rd NW:geo:-94.5363778,47.0549446
END:VEVENT
END:VCALENDAR