BEGIN:VCALENDAR
VERSION:2.0
PRODID:-//Leech Lake News - ECPv6.15.17//NONSGML v1.0//EN
CALSCALE:GREGORIAN
METHOD:PUBLISH
X-WR-CALNAME:Leech Lake News
X-ORIGINAL-URL:https://www.leechlakenews.com
X-WR-CALDESC:Events for Leech Lake News
REFRESH-INTERVAL;VALUE=DURATION:PT1H
X-Robots-Tag:noindex
X-PUBLISHED-TTL:PT1H
BEGIN:VTIMEZONE
TZID:America/Chicago
BEGIN:DAYLIGHT
TZOFFSETFROM:-0600
TZOFFSETTO:-0500
TZNAME:CDT
DTSTART:20230312T080000
END:DAYLIGHT
BEGIN:STANDARD
TZOFFSETFROM:-0500
TZOFFSETTO:-0600
TZNAME:CST
DTSTART:20231105T070000
END:STANDARD
BEGIN:DAYLIGHT
TZOFFSETFROM:-0600
TZOFFSETTO:-0500
TZNAME:CDT
DTSTART:20240310T080000
END:DAYLIGHT
BEGIN:STANDARD
TZOFFSETFROM:-0500
TZOFFSETTO:-0600
TZNAME:CST
DTSTART:20241103T070000
END:STANDARD
BEGIN:DAYLIGHT
TZOFFSETFROM:-0600
TZOFFSETTO:-0500
TZNAME:CDT
DTSTART:20250309T080000
END:DAYLIGHT
BEGIN:STANDARD
TZOFFSETFROM:-0500
TZOFFSETTO:-0600
TZNAME:CST
DTSTART:20251102T070000
END:STANDARD
END:VTIMEZONE
BEGIN:VEVENT
DTSTART;TZID=America/Chicago:20240701T100000
DTEND;TZID=America/Chicago:20240701T140000
DTSTAMP:20260420T090848
CREATED:20240125T175740Z
LAST-MODIFIED:20240626T192920Z
UID:10001248-1719828000-1719842400@www.leechlakenews.com
SUMMARY:Inauguration & Quarterly Meeting
DESCRIPTION:Please join us for the Inauguration Ceremony for recently elected officials in the Leech Lake Band of Ojibwe! \nThe swearing-in ceremony will be held on Monday\, July 1\, 2024 beginning at 10:00AM at the Northern Lights Casino Event Center in Walker\, MN. \nLunch will be served. \nThe Leech Lake Reservation Business Committee will hold the July Quarterly Meeting immediately following lunch and should begin at approximately 1:00PM. \nOpen to the public. We hope to see you there! Miigwech!\nThere will be separate livestreams for the swearing-in and Quarterly Meeting \n\nInauguration: https://vimeo.com/event/4410854\nQuarterly Meeting: https://vimeo.com/event/4410878
URL:https://www.leechlakenews.com/event/rtc-quarterly-meeting-7/
LOCATION:Northern Lights Casino\, 6800 Y Frontage Rd NW\, Walker\, MN\, 56484\, United States
CATEGORIES:LLBO
ATTACH;FMTTYPE=image/jpeg:https://www.leechlakenews.com/wp-content/uploads/2024/01/inauguration_LLBO2024.jpg
GEO:47.0549446;-94.5363778
X-APPLE-STRUCTURED-LOCATION;VALUE=URI;X-ADDRESS=Northern Lights Casino 6800 Y Frontage Rd NW Walker MN 56484 United States;X-APPLE-RADIUS=500;X-TITLE=6800 Y Frontage Rd NW:geo:-94.5363778,47.0549446
END:VEVENT
BEGIN:VEVENT
DTSTART;TZID=America/Chicago:20240702T090000
DTEND;TZID=America/Chicago:20240702T120000
DTSTAMP:20260420T090848
CREATED:20240701T202858Z
LAST-MODIFIED:20240701T202858Z
UID:10001571-1719910800-1719921600@www.leechlakenews.com
SUMMARY:LLRBC Meeting
DESCRIPTION:The Leech Lake Reservation Business Committee will hold a special meeting beginning at 9:00 AM on Tuesday\, July 2\, 2024. \nTune in live or watch the recorded video later at: https://vimeo.com/event/4423711
URL:https://www.leechlakenews.com/event/llrbc-meeting-3/
LOCATION:Leech Lake Band of Ojibwe\, 190 Sailstar Dr NW\, Cass Lake\, MN\, 56484\, United States
CATEGORIES:LLBO
GEO:47.3839789;-94.60106
X-APPLE-STRUCTURED-LOCATION;VALUE=URI;X-ADDRESS=Leech Lake Band of Ojibwe 190 Sailstar Dr NW Cass Lake MN 56484 United States;X-APPLE-RADIUS=500;X-TITLE=190 Sailstar Dr NW:geo:-94.60106,47.3839789
END:VEVENT
BEGIN:VEVENT
DTSTART;TZID=America/Chicago:20240717T110000
DTEND;TZID=America/Chicago:20240717T140000
DTSTAMP:20260420T090848
CREATED:20240710T143909Z
LAST-MODIFIED:20240710T144103Z
UID:10001572-1721214000-1721224800@www.leechlakenews.com
SUMMARY:Land Restoration Celebration
DESCRIPTION: Join us in celebrating a historic milestone! \nThe Leech Lake Band of Ojibwe invites you to a commemorative ceremony marking the restoration of 11\,778 acres of our ancestral lands. This significant event is a step towards justice and reconnecting with our heritage.\n Date: July 17\, 2024 Time: 11:00 AM Location: Bug-O-Nay-Ge-Shig School\, 15353 Silver Eagle Dr NW\, Bena\, MN 56626\nEveryone is welcome to attend and be a part of this momentous occasion! Let’s come together to honor our past and look forward to a brighter future. \n#LeechLake #LandBack
URL:https://www.leechlakenews.com/event/land-restoration-celebration/
LOCATION:Bug O Nay Ge Shig School\, 15353 Silver Eagle Dr NW\, Bena\, MN\, 56626\, United States
CATEGORIES:LLBO
ATTACH;FMTTYPE=image/jpeg:https://www.leechlakenews.com/wp-content/uploads/2024/07/land.jpg
GEO:47.3609274;-94.3068295
X-APPLE-STRUCTURED-LOCATION;VALUE=URI;X-ADDRESS=Bug O Nay Ge Shig School 15353 Silver Eagle Dr NW Bena MN 56626 United States;X-APPLE-RADIUS=500;X-TITLE=15353 Silver Eagle Dr NW:geo:-94.3068295,47.3609274
END:VEVENT
BEGIN:VEVENT
DTSTART;TZID=America/Chicago:20240725T173000
DTEND;TZID=America/Chicago:20240725T183000
DTSTAMP:20260420T090848
CREATED:20240507T145917Z
LAST-MODIFIED:20240507T145917Z
UID:10001558-1721928600-1721932200@www.leechlakenews.com
SUMMARY:Gaming Financial Review
DESCRIPTION:
URL:https://www.leechlakenews.com/event/gaming-financial-review/
LOCATION:Leech Lake Band of Ojibwe Twin Cities Office\, 2438 27th Avenue S\, Minneapolis\, MN\, 55406\, United States
CATEGORIES:LLBO
ATTACH;FMTTYPE=image/jpeg:https://www.leechlakenews.com/wp-content/uploads/2024/05/llgaming_2ndqtr2024_invitation-scaled.jpg
GEO:44.9584347;-93.2311492
X-APPLE-STRUCTURED-LOCATION;VALUE=URI;X-ADDRESS=Leech Lake Band of Ojibwe Twin Cities Office 2438 27th Avenue S Minneapolis MN 55406 United States;X-APPLE-RADIUS=500;X-TITLE=2438 27th Avenue S:geo:-93.2311492,44.9584347
END:VEVENT
END:VCALENDAR