BEGIN:VCALENDAR
VERSION:2.0
PRODID:-//Leech Lake News - ECPv6.15.17//NONSGML v1.0//EN
CALSCALE:GREGORIAN
METHOD:PUBLISH
X-WR-CALNAME:Leech Lake News
X-ORIGINAL-URL:https://www.leechlakenews.com
X-WR-CALDESC:Events for Leech Lake News
REFRESH-INTERVAL;VALUE=DURATION:PT1H
X-Robots-Tag:noindex
X-PUBLISHED-TTL:PT1H
BEGIN:VTIMEZONE
TZID:America/Chicago
BEGIN:DAYLIGHT
TZOFFSETFROM:-0600
TZOFFSETTO:-0500
TZNAME:CDT
DTSTART:20230312T080000
END:DAYLIGHT
BEGIN:STANDARD
TZOFFSETFROM:-0500
TZOFFSETTO:-0600
TZNAME:CST
DTSTART:20231105T070000
END:STANDARD
BEGIN:DAYLIGHT
TZOFFSETFROM:-0600
TZOFFSETTO:-0500
TZNAME:CDT
DTSTART:20240310T080000
END:DAYLIGHT
BEGIN:STANDARD
TZOFFSETFROM:-0500
TZOFFSETTO:-0600
TZNAME:CST
DTSTART:20241103T070000
END:STANDARD
BEGIN:DAYLIGHT
TZOFFSETFROM:-0600
TZOFFSETTO:-0500
TZNAME:CDT
DTSTART:20250309T080000
END:DAYLIGHT
BEGIN:STANDARD
TZOFFSETFROM:-0500
TZOFFSETTO:-0600
TZNAME:CST
DTSTART:20251102T070000
END:STANDARD
END:VTIMEZONE
BEGIN:VEVENT
DTSTART;TZID=America/Chicago:20240801T090000
DTEND;TZID=America/Chicago:20240801T120000
DTSTAMP:20260420T073055
CREATED:20240731T171318Z
LAST-MODIFIED:20240731T171433Z
UID:10001604-1722502800-1722513600@www.leechlakenews.com
SUMMARY:LLRBC Meeting 08.01.24
DESCRIPTION:The Leech Lake Reservation Business Committee will hold a special meeting beginning at 9:00 AM on Thursday\, August 1\, 2024. \nTune in live or watch the recorded version later at: https://vimeo.com/event/4481504
URL:https://www.leechlakenews.com/event/llrbc-meeting-08-01-24/
LOCATION:MN
CATEGORIES:LLBO
END:VEVENT
BEGIN:VEVENT
DTSTART;VALUE=DATE:20240821
DTEND;VALUE=DATE:20240824
DTSTAMP:20260420T073055
CREATED:20240125T175900Z
LAST-MODIFIED:20240817T193104Z
UID:10001253-1724198400-1724457599@www.leechlakenews.com
SUMMARY:Back Pack Giveaway
DESCRIPTION:See flyer for schedule and locations. Miigwech!
URL:https://www.leechlakenews.com/event/back-pack-giveaway-3/
LOCATION:MN
CATEGORIES:LLBO
ATTACH;FMTTYPE=image/jpeg:https://www.leechlakenews.com/wp-content/uploads/2024/01/backpacks_2024-update-scaled.jpg
END:VEVENT
END:VCALENDAR