BEGIN:VCALENDAR
VERSION:2.0
PRODID:-//Leech Lake News - ECPv6.15.17//NONSGML v1.0//EN
CALSCALE:GREGORIAN
METHOD:PUBLISH
X-ORIGINAL-URL:https://www.leechlakenews.com
X-WR-CALDESC:Events for Leech Lake News
REFRESH-INTERVAL;VALUE=DURATION:PT1H
X-Robots-Tag:noindex
X-PUBLISHED-TTL:PT1H
BEGIN:VTIMEZONE
TZID:America/Chicago
BEGIN:DAYLIGHT
TZOFFSETFROM:-0600
TZOFFSETTO:-0500
TZNAME:CDT
DTSTART:20240310T080000
END:DAYLIGHT
BEGIN:STANDARD
TZOFFSETFROM:-0500
TZOFFSETTO:-0600
TZNAME:CST
DTSTART:20241103T070000
END:STANDARD
BEGIN:DAYLIGHT
TZOFFSETFROM:-0600
TZOFFSETTO:-0500
TZNAME:CDT
DTSTART:20250309T080000
END:DAYLIGHT
BEGIN:STANDARD
TZOFFSETFROM:-0500
TZOFFSETTO:-0600
TZNAME:CST
DTSTART:20251102T070000
END:STANDARD
BEGIN:DAYLIGHT
TZOFFSETFROM:-0600
TZOFFSETTO:-0500
TZNAME:CDT
DTSTART:20260308T080000
END:DAYLIGHT
BEGIN:STANDARD
TZOFFSETFROM:-0500
TZOFFSETTO:-0600
TZNAME:CST
DTSTART:20261101T070000
END:STANDARD
END:VTIMEZONE
BEGIN:VEVENT
DTSTART;TZID=America/Chicago:20250711T100000
DTEND;TZID=America/Chicago:20250711T130000
DTSTAMP:20260419T105925
CREATED:20250630T191950Z
LAST-MODIFIED:20250708T165314Z
UID:10003091-1752228000-1752238800@www.leechlakenews.com
SUMMARY:Quarterly Meeting- Twin Cities
DESCRIPTION:07.11.25 Quarterly Meeting \n\nPlease join us at 10:00 AM on Friday\, July 11\, 2025 at the Leech Lake Twin Cities Office for the Quarterly Meeting of the Leech Lake Band of Ojibwe. All Band Members and employees are welcome and encouraged to attend.\n\nWatch livestream: https://vimeo.com/event/5230038
URL:https://www.leechlakenews.com/event/quarterly-meeting-twin-cities/
LOCATION:Leech Lake Band of Ojibwe Twin Cities Office\, 2438 27th Avenue S\, Minneapolis\, MN\, 55406\, United States
CATEGORIES:LLBO
ATTACH;FMTTYPE=image/jpeg:https://www.leechlakenews.com/wp-content/uploads/2025/06/2025_TCOquarterly_8x11-scaled.jpg
GEO:44.9584347;-93.2311492
X-APPLE-STRUCTURED-LOCATION;VALUE=URI;X-ADDRESS=Leech Lake Band of Ojibwe Twin Cities Office 2438 27th Avenue S Minneapolis MN 55406 United States;X-APPLE-RADIUS=500;X-TITLE=2438 27th Avenue S:geo:-93.2311492,44.9584347
END:VEVENT
BEGIN:VEVENT
DTSTART;TZID=America/Chicago:20250716T090000
DTEND;TZID=America/Chicago:20250716T120000
DTSTAMP:20260419T105925
CREATED:20250715T160327Z
LAST-MODIFIED:20250715T160327Z
UID:10003104-1752656400-1752667200@www.leechlakenews.com
SUMMARY:RBC Meeting
DESCRIPTION:The Leech Lake Reservation Business Committee will hold a special meeting beginning at 9:00 AM on Wednesday\, July 16\, 2025 \nWatch live or view the recorded version here: https://vimeo.com/event/5257257
URL:https://www.leechlakenews.com/event/rbc-meeting-2/
LOCATION:Leech Lake Band of Ojibwe\, 190 Sailstar Dr NW\, Cass Lake\, MN\, 56484\, United States
CATEGORIES:LLBO
ATTACH;FMTTYPE=image/jpeg:https://www.leechlakenews.com/wp-content/uploads/2025/07/llrbc_default.jpg
GEO:47.3839789;-94.60106
X-APPLE-STRUCTURED-LOCATION;VALUE=URI;X-ADDRESS=Leech Lake Band of Ojibwe 190 Sailstar Dr NW Cass Lake MN 56484 United States;X-APPLE-RADIUS=500;X-TITLE=190 Sailstar Dr NW:geo:-94.60106,47.3839789
END:VEVENT
END:VCALENDAR