BEGIN:VCALENDAR
VERSION:2.0
PRODID:-//Leech Lake News - ECPv6.15.17//NONSGML v1.0//EN
CALSCALE:GREGORIAN
METHOD:PUBLISH
X-ORIGINAL-URL:https://www.leechlakenews.com
X-WR-CALDESC:Events for Leech Lake News
REFRESH-INTERVAL;VALUE=DURATION:PT1H
X-Robots-Tag:noindex
X-PUBLISHED-TTL:PT1H
BEGIN:VTIMEZONE
TZID:America/Chicago
BEGIN:DAYLIGHT
TZOFFSETFROM:-0600
TZOFFSETTO:-0500
TZNAME:CDT
DTSTART:20210314T080000
END:DAYLIGHT
BEGIN:STANDARD
TZOFFSETFROM:-0500
TZOFFSETTO:-0600
TZNAME:CST
DTSTART:20211107T070000
END:STANDARD
BEGIN:DAYLIGHT
TZOFFSETFROM:-0600
TZOFFSETTO:-0500
TZNAME:CDT
DTSTART:20220313T080000
END:DAYLIGHT
BEGIN:STANDARD
TZOFFSETFROM:-0500
TZOFFSETTO:-0600
TZNAME:CST
DTSTART:20221106T070000
END:STANDARD
BEGIN:DAYLIGHT
TZOFFSETFROM:-0600
TZOFFSETTO:-0500
TZNAME:CDT
DTSTART:20230312T080000
END:DAYLIGHT
BEGIN:STANDARD
TZOFFSETFROM:-0500
TZOFFSETTO:-0600
TZNAME:CST
DTSTART:20231105T070000
END:STANDARD
BEGIN:DAYLIGHT
TZOFFSETFROM:-0600
TZOFFSETTO:-0500
TZNAME:CDT
DTSTART:20240310T080000
END:DAYLIGHT
BEGIN:STANDARD
TZOFFSETFROM:-0500
TZOFFSETTO:-0600
TZNAME:CST
DTSTART:20241103T070000
END:STANDARD
BEGIN:DAYLIGHT
TZOFFSETFROM:-0600
TZOFFSETTO:-0500
TZNAME:CDT
DTSTART:20250309T080000
END:DAYLIGHT
BEGIN:STANDARD
TZOFFSETFROM:-0500
TZOFFSETTO:-0600
TZNAME:CST
DTSTART:20251102T070000
END:STANDARD
END:VTIMEZONE
BEGIN:VEVENT
DTSTART;TZID=America/Chicago:20240718T160000
DTEND;TZID=America/Chicago:20240718T180000
DTSTAMP:20260419T234932
CREATED:20240712T173654Z
LAST-MODIFIED:20240712T173654Z
UID:10001594-1721318400-1721325600@www.leechlakenews.com
SUMMARY:Head Start Enrollment- Ball Club
DESCRIPTION:Related
URL:https://www.leechlakenews.com/event/head-start-enrollment-ball-club/
LOCATION:Ball Club Community Center\, 30975 Arctic Rd\, Deer River\, MN\, 56636\, United States
CATEGORIES:Community
ATTACH;FMTTYPE=image/jpeg:https://www.leechlakenews.com/wp-content/uploads/2024/07/Ball-Club-Recruit-7-24.jpg
GEO:47.3247299;-93.936798
X-APPLE-STRUCTURED-LOCATION;VALUE=URI;X-ADDRESS=Ball Club Community Center 30975 Arctic Rd Deer River MN 56636 United States;X-APPLE-RADIUS=500;X-TITLE=30975 Arctic Rd:geo:-93.936798,47.3247299
END:VEVENT
BEGIN:VEVENT
DTSTART;TZID=America/Chicago:20240423T153000
DTEND;TZID=America/Chicago:20240423T180000
DTSTAMP:20260419T234932
CREATED:20240328T204834Z
LAST-MODIFIED:20240328T204834Z
UID:10001503-1713886200-1713895200@www.leechlakenews.com
SUMMARY:HeadStart Recruitment-Ball Club
DESCRIPTION:Related
URL:https://www.leechlakenews.com/event/headstart-recruitment-ball-club/
LOCATION:Ball Club Community Center\, 30975 Arctic Rd\, Deer River\, MN\, 56636\, United States
CATEGORIES:Community
ATTACH;FMTTYPE=image/jpeg:https://www.leechlakenews.com/wp-content/uploads/2024/03/2024-Spring-Recruitment.jpg
GEO:47.3247299;-93.936798
X-APPLE-STRUCTURED-LOCATION;VALUE=URI;X-ADDRESS=Ball Club Community Center 30975 Arctic Rd Deer River MN 56636 United States;X-APPLE-RADIUS=500;X-TITLE=30975 Arctic Rd:geo:-93.936798,47.3247299
END:VEVENT
BEGIN:VEVENT
DTSTART;TZID=America/Chicago:20240417T130000
DTEND;TZID=America/Chicago:20240417T153000
DTSTAMP:20260419T234932
CREATED:20240328T170240Z
LAST-MODIFIED:20240328T170240Z
UID:10001499-1713358800-1713367800@www.leechlakenews.com
SUMMARY:Car Seat Program- Ball Club
DESCRIPTION:Related
URL:https://www.leechlakenews.com/event/car-seat-program-ball-club/
LOCATION:Ball Club Community Center\, 30975 Arctic Rd\, Deer River\, MN\, 56636\, United States
CATEGORIES:Community
ATTACH;FMTTYPE=image/jpeg:https://www.leechlakenews.com/wp-content/uploads/2024/03/community-carseat-flyer.jpg
GEO:47.3247299;-93.936798
X-APPLE-STRUCTURED-LOCATION;VALUE=URI;X-ADDRESS=Ball Club Community Center 30975 Arctic Rd Deer River MN 56636 United States;X-APPLE-RADIUS=500;X-TITLE=30975 Arctic Rd:geo:-93.936798,47.3247299
END:VEVENT
BEGIN:VEVENT
DTSTART;TZID=America/Chicago:20240408T130000
DTEND;TZID=America/Chicago:20240408T150000
DTSTAMP:20260419T234932
CREATED:20240328T210108Z
LAST-MODIFIED:20240328T210108Z
UID:10001511-1712581200-1712588400@www.leechlakenews.com
SUMMARY:Community Drive Through-Ball Club
DESCRIPTION:Related
URL:https://www.leechlakenews.com/event/community-drive-through-ball-club/
LOCATION:Ball Club Community Center\, 30975 Arctic Rd\, Deer River\, MN\, 56636\, United States
CATEGORIES:Community
ATTACH;FMTTYPE=image/jpeg:https://www.leechlakenews.com/wp-content/uploads/2024/03/Spring-2024-Drive-Through-Event.jpg
GEO:47.3247299;-93.936798
X-APPLE-STRUCTURED-LOCATION;VALUE=URI;X-ADDRESS=Ball Club Community Center 30975 Arctic Rd Deer River MN 56636 United States;X-APPLE-RADIUS=500;X-TITLE=30975 Arctic Rd:geo:-93.936798,47.3247299
END:VEVENT
BEGIN:VEVENT
DTSTART;TZID=America/Chicago:20240404T173000
DTEND;TZID=America/Chicago:20240404T193000
DTSTAMP:20260419T234932
CREATED:20240403T141948Z
LAST-MODIFIED:20240403T141948Z
UID:10001517-1712251800-1712259000@www.leechlakenews.com
SUMMARY:Class II Gaming Update
DESCRIPTION:Related
URL:https://www.leechlakenews.com/event/class-ii-gaming-update/
LOCATION:Ball Club Community Center\, 30975 Arctic Rd\, Deer River\, MN\, 56636\, United States
CATEGORIES:LLBO
ATTACH;FMTTYPE=image/jpeg:https://www.leechlakenews.com/wp-content/uploads/2024/04/class2_bena.jpg
GEO:47.3247299;-93.936798
X-APPLE-STRUCTURED-LOCATION;VALUE=URI;X-ADDRESS=Ball Club Community Center 30975 Arctic Rd Deer River MN 56636 United States;X-APPLE-RADIUS=500;X-TITLE=30975 Arctic Rd:geo:-93.936798,47.3247299
END:VEVENT
BEGIN:VEVENT
DTSTART;TZID=America/Chicago:20231020T100000
DTEND;TZID=America/Chicago:20231020T150000
DTSTAMP:20260419T234932
CREATED:20230120T180539Z
LAST-MODIFIED:20230928T153738Z
UID:10000691-1697796000-1697814000@www.leechlakenews.com
SUMMARY:RTC Quarterly Meeting
DESCRIPTION:District I- Ball Club Community Center \nSignup for an informational booth: https://forms.office.com/r/reYWRbcqF2 \n  \n\n\n	Related
URL:https://www.leechlakenews.com/event/rtc-quarterly-meeting-5/
LOCATION:Ball Club Community Center\, 30975 Arctic Rd\, Deer River\, MN\, 56636\, United States
CATEGORIES:Community
ATTACH;FMTTYPE=image/jpeg:https://www.leechlakenews.com/wp-content/uploads/2023/01/Quarterly_OCT23_ballclub_web-scaled.jpg
GEO:47.3247299;-93.936798
X-APPLE-STRUCTURED-LOCATION;VALUE=URI;X-ADDRESS=Ball Club Community Center 30975 Arctic Rd Deer River MN 56636 United States;X-APPLE-RADIUS=500;X-TITLE=30975 Arctic Rd:geo:-93.936798,47.3247299
END:VEVENT
BEGIN:VEVENT
DTSTART;TZID=America/Chicago:20230712T170000
DTEND;TZID=America/Chicago:20230712T190000
DTSTAMP:20260419T234932
CREATED:20230605T195326Z
LAST-MODIFIED:20230613T184710Z
UID:10001154-1689181200-1689188400@www.leechlakenews.com
SUMMARY:District I Education Achievement Dinner
DESCRIPTION:Related
URL:https://www.leechlakenews.com/event/district-i-education-achievement-dinner/
LOCATION:Ball Club Community Center\, 30975 Arctic Rd\, Deer River\, MN\, 56636\, United States
CATEGORIES:District I
ATTACH;FMTTYPE=image/jpeg:https://www.leechlakenews.com/wp-content/uploads/2023/06/Graduation-Congratulation-design-Made-with-PosterMyWall-7.jpg
GEO:47.3247299;-93.936798
X-APPLE-STRUCTURED-LOCATION;VALUE=URI;X-ADDRESS=Ball Club Community Center 30975 Arctic Rd Deer River MN 56636 United States;X-APPLE-RADIUS=500;X-TITLE=30975 Arctic Rd:geo:-93.936798,47.3247299
END:VEVENT
BEGIN:VEVENT
DTSTART;TZID=America/Chicago:20230607T173000
DTEND;TZID=America/Chicago:20230607T190000
DTSTAMP:20260419T234932
CREATED:20230605T210156Z
LAST-MODIFIED:20230605T211734Z
UID:10001156-1686159000-1686164400@www.leechlakenews.com
SUMMARY:FY24 Budget Hearing: District 1
DESCRIPTION:Zoom Info: \nTopic: FY24 Public Budget Hearing\nTime: This is a recurring meeting Meet anytime \nJoin Zoom Meeting\nhttps://us06web.zoom.us/j/83496704802?pwd=RlQvQjRWT2NIbWJlbWRhSlZLRWJEUT09 \nMeeting ID: 834 9670 4802\nPasscode: 697627 \n\n\n	Related
URL:https://www.leechlakenews.com/event/fy24-budget-hearing/
LOCATION:Ball Club Community Center\, 30975 Arctic Rd\, Deer River\, MN\, 56636\, United States
CATEGORIES:Community,District I
ATTACH;FMTTYPE=image/jpeg:https://www.leechlakenews.com/wp-content/uploads/2023/06/leech-lake-band-of-ojibwe-1.jpg
GEO:47.3247299;-93.936798
X-APPLE-STRUCTURED-LOCATION;VALUE=URI;X-ADDRESS=Ball Club Community Center 30975 Arctic Rd Deer River MN 56636 United States;X-APPLE-RADIUS=500;X-TITLE=30975 Arctic Rd:geo:-93.936798,47.3247299
END:VEVENT
BEGIN:VEVENT
DTSTART;TZID=America/Chicago:20230307T170000
DTEND;TZID=America/Chicago:20230307T190000
DTSTAMP:20260419T234932
CREATED:20230214T192440Z
LAST-MODIFIED:20230214T192440Z
UID:10000714-1678208400-1678215600@www.leechlakenews.com
SUMMARY:Family Fun Night- Ball Club
DESCRIPTION:Related
URL:https://www.leechlakenews.com/event/family-fun-night-ball-club/
LOCATION:Ball Club Community Center\, 30975 Arctic Rd\, Deer River\, MN\, 56636\, United States
CATEGORIES:Community
ATTACH;FMTTYPE=image/png:https://www.leechlakenews.com/wp-content/uploads/2023/02/BC-FFN-Flyer.png
GEO:47.3247299;-93.936798
X-APPLE-STRUCTURED-LOCATION;VALUE=URI;X-ADDRESS=Ball Club Community Center 30975 Arctic Rd Deer River MN 56636 United States;X-APPLE-RADIUS=500;X-TITLE=30975 Arctic Rd:geo:-93.936798,47.3247299
END:VEVENT
BEGIN:VEVENT
DTSTART;TZID=America/Chicago:20230222T180000
DTEND;TZID=America/Chicago:20230222T190000
DTSTAMP:20260419T234932
CREATED:20230202T200405Z
LAST-MODIFIED:20230202T200405Z
UID:10000709-1677088800-1677092400@www.leechlakenews.com
SUMMARY:Community Narcan Training
DESCRIPTION:Leech Lake Health & Safety presents Community Narcan Training \nFebruary 22\, 2023\n6:00PM\nBall Club Community Center \nEveryone is welcome\, no signup needed! \n\n\n	Related
URL:https://www.leechlakenews.com/event/community-narcan-training-3/
LOCATION:Ball Club Community Center\, 30975 Arctic Rd\, Deer River\, MN\, 56636\, United States
CATEGORIES:Community
ATTACH;FMTTYPE=image/jpeg:https://www.leechlakenews.com/wp-content/uploads/2023/02/feb_narcan.jpg
GEO:47.3247299;-93.936798
X-APPLE-STRUCTURED-LOCATION;VALUE=URI;X-ADDRESS=Ball Club Community Center 30975 Arctic Rd Deer River MN 56636 United States;X-APPLE-RADIUS=500;X-TITLE=30975 Arctic Rd:geo:-93.936798,47.3247299
END:VEVENT
BEGIN:VEVENT
DTSTART;TZID=America/Chicago:20230213T130000
DTEND;TZID=America/Chicago:20230213T180000
DTSTAMP:20260419T234932
CREATED:20230118T202634Z
LAST-MODIFIED:20230118T202634Z
UID:10000666-1676293200-1676311200@www.leechlakenews.com
SUMMARY:Day of Connections- Ball Club
DESCRIPTION:DAY OF CONNECTIONS \nMonday\, February 13th \n1:00 – 6:00 PM \nLone Eagle Center \nJoin us for this great community event. Come visit with neighbors\, grab a bite to eat\, and explore many community resources. These resources include: free (or reduced) internet\, job opportunities\, education\, and Leech Lake Tribal ID’s. $15 replacement fee will be waived for all attendees. \n  \nCOMMUNITY RESOURCES: \nLLBO \nProvide a wide array of resources including: \n\nLeech Lake Tribal ID’s\nGaming\nJob Opportunities\n\nOTHER RESOURCES \n\nEducational resources through area schools that may include: ISD 317\, ISD 318\, and Bug-o nay-ge-shig.\nJob opportunities in Itasca County\nOn-site assistance with the ACP through other providers\n\nPBTV \nProvide one-on-one guidance applying for and setting up the Affordable Connectivity Program \nREQUIRED DOCUMENTATION: \n\nPhoto ID or Tribal ID\n\nAND ONE OF THE FOLLOWING \n\nDocumentation regarding your child’s free or reduced lunch status at school (i.e. report card)\nDocumentation for a government assistance program (i.e. SNAP\, Medicaid\, Federal Public Housing Assistance\, SSI\, WIC).\nDocumentation for a tribal assistance program (i.e. Tribal TANF\, Tribal Head Start\, Bureau of Indian Affairs assistance).\nDocumentation stating that you received a Federal Pell Grant during the current award year).\n\nDial-A-Ride 218-398-2540 \nStruggling to find a ride to and from the event? Don’t worry! Leech Lake Band of Ojibwe is offering a dial-a-ride service through the transportation department! All you have to do is text or call the number below on the day of the event\, and let them know where to pick you up! \n\n\n	Related
URL:https://www.leechlakenews.com/event/day-of-connections-ball-club/
LOCATION:Ball Club Community Center\, 30975 Arctic Rd\, Deer River\, MN\, 56636\, United States
CATEGORIES:District I
ATTACH;FMTTYPE=image/jpeg:https://www.leechlakenews.com/wp-content/uploads/2023/01/Day-of-Connections-BC.jpg
GEO:47.3247299;-93.936798
X-APPLE-STRUCTURED-LOCATION;VALUE=URI;X-ADDRESS=Ball Club Community Center 30975 Arctic Rd Deer River MN 56636 United States;X-APPLE-RADIUS=500;X-TITLE=30975 Arctic Rd:geo:-93.936798,47.3247299
END:VEVENT
BEGIN:VEVENT
DTSTART;TZID=America/Chicago:20220525T173000
DTEND;TZID=America/Chicago:20220525T183000
DTSTAMP:20260419T234932
CREATED:20220503T174150Z
LAST-MODIFIED:20220503T174150Z
UID:10000474-1653499800-1653503400@www.leechlakenews.com
SUMMARY:Group Fitness- Ball Club
DESCRIPTION:Every Wednesday 5:30pm – 6:30 pm \n\n\n	Related
URL:https://www.leechlakenews.com/event/group-fitness-ball-club/2022-05-25/
LOCATION:Ball Club Community Center\, 30975 Arctic Rd\, Deer River\, MN\, 56636\, United States
CATEGORIES:Community
ATTACH;FMTTYPE=image/jpeg:https://www.leechlakenews.com/wp-content/uploads/2022/05/group_fitness.jpg
GEO:47.3247299;-93.936798
X-APPLE-STRUCTURED-LOCATION;VALUE=URI;X-ADDRESS=Ball Club Community Center 30975 Arctic Rd Deer River MN 56636 United States;X-APPLE-RADIUS=500;X-TITLE=30975 Arctic Rd:geo:-93.936798,47.3247299
END:VEVENT
BEGIN:VEVENT
DTSTART;TZID=America/Chicago:20220223T170000
DTEND;TZID=America/Chicago:20220223T190000
DTSTAMP:20260419T234932
CREATED:20220215T201652Z
LAST-MODIFIED:20220215T201652Z
UID:10000421-1645635600-1645642800@www.leechlakenews.com
SUMMARY:Huber Mill Public Meeting- Ball Club
DESCRIPTION:Public Informational Meeting Proposed Huber Mill \nWe NEED your participation ! All community members are invited to learn more about the environmental review for the proposed 400-acre oriented strand board (OSB) manufacturing facility. Meetings will include: \n\nPresentation from DRM staff on the proposed project\nOpen discussion on issues and concerns\nAssistance with writing and submitting comments\n\nPlease join us a meal and light refreshments will be provided. \nWednesday\, February 23\, 2022\n5PM-7PM \nBall Club Community Center\n30975 Arctic Rd\nDeer River\, MN \n\n\n	Related
URL:https://www.leechlakenews.com/event/huber-mill-public-meeting-ball-club/
LOCATION:Ball Club Community Center\, 30975 Arctic Rd\, Deer River\, MN\, 56636\, United States
CATEGORIES:Community
ATTACH;FMTTYPE=image/jpeg:https://www.leechlakenews.com/wp-content/uploads/2022/02/huber_pubMeetings_web.jpg
GEO:47.3247299;-93.936798
X-APPLE-STRUCTURED-LOCATION;VALUE=URI;X-ADDRESS=Ball Club Community Center 30975 Arctic Rd Deer River MN 56636 United States;X-APPLE-RADIUS=500;X-TITLE=30975 Arctic Rd:geo:-93.936798,47.3247299
END:VEVENT
END:VCALENDAR