BEGIN:VCALENDAR
VERSION:2.0
PRODID:-//Leech Lake News - ECPv6.15.17//NONSGML v1.0//EN
CALSCALE:GREGORIAN
METHOD:PUBLISH
X-ORIGINAL-URL:https://www.leechlakenews.com
X-WR-CALDESC:Events for Leech Lake News
REFRESH-INTERVAL;VALUE=DURATION:PT1H
X-Robots-Tag:noindex
X-PUBLISHED-TTL:PT1H
BEGIN:VTIMEZONE
TZID:America/Chicago
BEGIN:DAYLIGHT
TZOFFSETFROM:-0600
TZOFFSETTO:-0500
TZNAME:CDT
DTSTART:20200308T080000
END:DAYLIGHT
BEGIN:STANDARD
TZOFFSETFROM:-0500
TZOFFSETTO:-0600
TZNAME:CST
DTSTART:20201101T070000
END:STANDARD
BEGIN:DAYLIGHT
TZOFFSETFROM:-0600
TZOFFSETTO:-0500
TZNAME:CDT
DTSTART:20210314T080000
END:DAYLIGHT
BEGIN:STANDARD
TZOFFSETFROM:-0500
TZOFFSETTO:-0600
TZNAME:CST
DTSTART:20211107T070000
END:STANDARD
BEGIN:DAYLIGHT
TZOFFSETFROM:-0600
TZOFFSETTO:-0500
TZNAME:CDT
DTSTART:20220313T080000
END:DAYLIGHT
BEGIN:STANDARD
TZOFFSETFROM:-0500
TZOFFSETTO:-0600
TZNAME:CST
DTSTART:20221106T070000
END:STANDARD
BEGIN:DAYLIGHT
TZOFFSETFROM:-0600
TZOFFSETTO:-0500
TZNAME:CDT
DTSTART:20230312T080000
END:DAYLIGHT
BEGIN:STANDARD
TZOFFSETFROM:-0500
TZOFFSETTO:-0600
TZNAME:CST
DTSTART:20231105T070000
END:STANDARD
BEGIN:DAYLIGHT
TZOFFSETFROM:-0600
TZOFFSETTO:-0500
TZNAME:CDT
DTSTART:20240310T080000
END:DAYLIGHT
BEGIN:STANDARD
TZOFFSETFROM:-0500
TZOFFSETTO:-0600
TZNAME:CST
DTSTART:20241103T070000
END:STANDARD
BEGIN:DAYLIGHT
TZOFFSETFROM:-0600
TZOFFSETTO:-0500
TZNAME:CDT
DTSTART:20250309T080000
END:DAYLIGHT
BEGIN:STANDARD
TZOFFSETFROM:-0500
TZOFFSETTO:-0600
TZNAME:CST
DTSTART:20251102T070000
END:STANDARD
END:VTIMEZONE
BEGIN:VEVENT
DTSTART;TZID=America/Chicago:20240222T090000
DTEND;TZID=America/Chicago:20240222T120000
DTSTAMP:20260420T032309
CREATED:20240209T195320Z
LAST-MODIFIED:20240212T204301Z
UID:10001446-1708592400-1708603200@www.leechlakenews.com
SUMMARY:Tribal Council Meeting
DESCRIPTION:The Leech Lake Reservation Business Committee will hold a special meeting on February 22\, 2024 beginning at 9:00AM. \nWatch online at: https://vimeo.com/event/4079312 \n  \n\n\n	Related
URL:https://www.leechlakenews.com/event/tribal-council-meeting/
LOCATION:Leech Lake Band of Ojibwe\, 190 Sailstar Dr NW\, Cass Lake\, MN\, 56484\, United States
CATEGORIES:LLBO
GEO:47.3839789;-94.60106
X-APPLE-STRUCTURED-LOCATION;VALUE=URI;X-ADDRESS=Leech Lake Band of Ojibwe 190 Sailstar Dr NW Cass Lake MN 56484 United States;X-APPLE-RADIUS=500;X-TITLE=190 Sailstar Dr NW:geo:-94.60106,47.3839789
END:VEVENT
BEGIN:VEVENT
DTSTART;TZID=America/Chicago:20240220T090000
DTEND;TZID=America/Chicago:20240220T120000
DTSTAMP:20260420T032309
CREATED:20240209T194555Z
LAST-MODIFIED:20240212T185535Z
UID:10001445-1708419600-1708430400@www.leechlakenews.com
SUMMARY:Tribal Council Briefing
DESCRIPTION:The Leech Lake Reservation Business Committee will hold a briefing on February 20\, 2024 beginning at 9:00AM. \nWatch online at: https://vimeo.com/event/4079288 \n  \n\n\n	Related
URL:https://www.leechlakenews.com/event/tribal-council-briefing/
LOCATION:Leech Lake Band of Ojibwe\, 190 Sailstar Dr NW\, Cass Lake\, MN\, 56484\, United States
CATEGORIES:LLBO
GEO:47.3839789;-94.60106
X-APPLE-STRUCTURED-LOCATION;VALUE=URI;X-ADDRESS=Leech Lake Band of Ojibwe 190 Sailstar Dr NW Cass Lake MN 56484 United States;X-APPLE-RADIUS=500;X-TITLE=190 Sailstar Dr NW:geo:-94.60106,47.3839789
END:VEVENT
BEGIN:VEVENT
DTSTART;TZID=America/Chicago:20240215T123000
DTEND;TZID=America/Chicago:20240215T140000
DTSTAMP:20260420T032309
CREATED:20240207T220440Z
LAST-MODIFIED:20240212T204453Z
UID:10001442-1708000200-1708005600@www.leechlakenews.com
SUMMARY:LLBO- Cass Lake Bena School Consultation
DESCRIPTION:Watch online at: https://vimeo.com/event/4073475 \n\n\n	Related
URL:https://www.leechlakenews.com/event/llbo-cass-lake-bena-school-consultation/
LOCATION:Leech Lake Band of Ojibwe\, 190 Sailstar Dr NW\, Cass Lake\, MN\, 56484\, United States
CATEGORIES:LLBO
ATTACH;FMTTYPE=image/jpeg:https://www.leechlakenews.com/wp-content/uploads/2024/02/Flier-LEA-Consults-2024-scaled.jpg
GEO:47.3839789;-94.60106
X-APPLE-STRUCTURED-LOCATION;VALUE=URI;X-ADDRESS=Leech Lake Band of Ojibwe 190 Sailstar Dr NW Cass Lake MN 56484 United States;X-APPLE-RADIUS=500;X-TITLE=190 Sailstar Dr NW:geo:-94.60106,47.3839789
END:VEVENT
BEGIN:VEVENT
DTSTART;TZID=America/Chicago:20230203T120000
DTEND;TZID=America/Chicago:20230203T130000
DTSTAMP:20260420T032309
CREATED:20230201T182547Z
LAST-MODIFIED:20230201T182547Z
UID:10000696-1675425600-1675429200@www.leechlakenews.com
SUMMARY:Public Comment Hearing- LLDRM Environmental
DESCRIPTION:Aniin\,\nOur Environmental Department would like to give notice that we will be holding a public hearing on Friday\, February 3rd from 12 to 1 PM at the RBC building (190 Sailstar dr.) in the council chambers to gather input on the use of allocated funding to decrease disruptions to our electric grid. There will be a short presentation on the funding\, followed by discussion. Comments will be taken verbally or in writing.\nWe would like to hear your voices and thoughts on this matter so we look forward to having you there.\nMiigwech! \n\n\n	Related
URL:https://www.leechlakenews.com/event/public-comment-hearing-lldrm-environmental/
LOCATION:Leech Lake Band of Ojibwe\, 190 Sailstar Dr NW\, Cass Lake\, MN\, 56484\, United States
CATEGORIES:Community
GEO:47.3839789;-94.60106
X-APPLE-STRUCTURED-LOCATION;VALUE=URI;X-ADDRESS=Leech Lake Band of Ojibwe 190 Sailstar Dr NW Cass Lake MN 56484 United States;X-APPLE-RADIUS=500;X-TITLE=190 Sailstar Dr NW:geo:-94.60106,47.3839789
END:VEVENT
BEGIN:VEVENT
DTSTART;VALUE=DATE:20211111
DTEND;VALUE=DATE:20211112
DTSTAMP:20260420T032309
CREATED:20211103T154700Z
LAST-MODIFIED:20211103T154700Z
UID:10000373-1636588800-1636675199@www.leechlakenews.com
SUMMARY:LLBO Govt Offices Closed
DESCRIPTION:The Leech Lake Band of Ojibwe Government offices will be closed on Thursday\, November 11\, 2021 in observance of Veterans Day. \nAll Tribal Government businesses and 24-hour programs will remain on their regular work schedules. \nIf you have questions or concerns\, please contact your immediate supervisor or Human Resources at 218-335-3698. \n\n\n	Related
URL:https://www.leechlakenews.com/event/llbo-govt-offices-closed/
LOCATION:Leech Lake Band of Ojibwe\, 190 Sailstar Dr NW\, Cass Lake\, MN\, 56484\, United States
CATEGORIES:Community
ATTACH;FMTTYPE=image/jpeg:https://www.leechlakenews.com/wp-content/uploads/2021/11/vetsday-scaled.jpg
GEO:47.3839789;-94.60106
X-APPLE-STRUCTURED-LOCATION;VALUE=URI;X-ADDRESS=Leech Lake Band of Ojibwe 190 Sailstar Dr NW Cass Lake MN 56484 United States;X-APPLE-RADIUS=500;X-TITLE=190 Sailstar Dr NW:geo:-94.60106,47.3839789
END:VEVENT
END:VCALENDAR